BEGIN:VCALENDAR
VERSION:2.0
PRODID:DPCALENDAR
CALSCALE:GREGORIAN
BEGIN:VTIMEZONE
TZID:Europe/Berlin
X-MICROSOFT-CDO-TZID:4
BEGIN:STANDARD
DTSTART:20251026T010000
TZOFFSETFROM:+0200
TZOFFSETTO:+0100
TZNAME:CET
END:STANDARD
BEGIN:STANDARD
DTSTART:20261025T010000
TZOFFSETFROM:+0200
TZOFFSETTO:+0100
TZNAME:CET
END:STANDARD
BEGIN:DAYLIGHT
DTSTART:20260329T010000
TZOFFSETFROM:+0100
TZOFFSETTO:+0200
TZNAME:CEST
END:DAYLIGHT
END:VTIMEZONE
X-WR-TIMEZONE:Europe/Berlin
BEGIN:VEVENT
DTSTART;TZID=Europe/Berlin:20240105T180000
DTEND;TZID=Europe/Berlin:20240105T210000
UID:06724880-533E-411B-93A6-604BAB48432E
SUMMARY:Treffen der Gemeindeleitung
CREATED:20240105T111020Z
DTSTAMP:20240105T111020Z
URL:https://www.efg-regensburg.de/termine/kalender/treffen-der-gemeindeleitung-5
LOCATION:Adalbert-Stifter-Str. 33b\, 93051 Regensburg
GEO:48.99649085;12.08187640
X-LOCATION-DISPLAYNAME:EFG Regensburg
X-ACCESS:1
X-HITS:8
X-COLOR:0de0ab
X-SHOW-END-TIME:1
END:VEVENT
BEGIN:VEVENT
DTSTART;VALUE=DATE:20240322
DTEND;VALUE=DATE:20240325
UID:8558803A-69EB-4CE4-B6A4-A092A319C863
SUMMARY:GJW Bayern: Holy Date (Alter: 14 - 17 Jahre)
CREATED:20231220T112834Z
DTSTAMP:20231220T112834Z
URL:https://www.gjw-bayern.de/termine-veranstaltungen/veranstaltung/title/holydate-2/
LOCATION:Onckenweg 3\, 85049 Ingolstadt
GEO:48.76898800;11.38825561
X-LOCATION-DISPLAYNAME:EFG Ingolstadt
X-ACCESS:1
X-HITS:0
X-COLOR:0de0ab
X-SHOW-END-TIME:1
END:VEVENT
BEGIN:VEVENT
DTSTART;VALUE=DATE:20240630
DTEND;VALUE=DATE:20240701
UID:B8DA0581-2315-4DE8-AB98-CA60DFF7528E
SUMMARY:Anmeldeschluss Gemeindefreizeit
CREATED:20231220T115842Z
DTSTAMP:20231220T115842Z
URL:https://www.efg-regensburg.de/termine/kalender/anmeldeschluss-gemeindefreizeit
LAST-MODIFIED:20240711T075511Z
SEQUENCE:17610989
X-ACCESS:1
X-HITS:10
X-COLOR:0de0ab
X-SHOW-END-TIME:1
END:VEVENT
BEGIN:VEVENT
DTSTART;VALUE=DATE:20240810
DTEND;VALUE=DATE:20240818
UID:40E69F09-EC1E-43C0-A983-7A3C8067D41A
SUMMARY:GJW Bayern: Kinderfreizeit (Alter: 7-10 Jahre)
CREATED:20231220T120616Z
DTSTAMP:20231220T120616Z
URL:https://www.gjw-bayern.de/termine-veranstaltungen/veranstaltung/title/kinderfreizeit/
DESCRIPTION:in Speichersdorf
X-ALT-DESC;FMTTYPE=text/html:<p>in Speichersdorf</p>
LAST-MODIFIED:20231220T120704Z
SEQUENCE:48
X-ACCESS:1
X-HITS:4
X-COLOR:0de0ab
X-SHOW-END-TIME:1
END:VEVENT
BEGIN:VEVENT
DTSTART;TZID=Europe/Berlin:20250215T193000
DTEND;TZID=Europe/Berlin:20250215T213000
UID:810D86B9-7B60-4CD7-883E-2B1F9DD95E7D
SUMMARY:Lobpreis- und Gebetsabend
CREATED:20250109T134134Z
DTSTAMP:20250109T134134Z
URL:https://www.efg-regensburg.de/termine/kalender/lobpreis-und-gebetsabend-5
LAST-MODIFIED:20250210T194217Z
SEQUENCE:2786443
LOCATION:Adalbert-Stifter-Str. 33b\, 93051 Regensburg
GEO:48.99649085;12.08187640
X-ROOMS:Gruppenraum im Keller
X-LOCATION-DISPLAYNAME:EFG Regensburg [Gruppenraum im Keller]
X-ACCESS:1
X-HITS:24
X-COLOR:0de0ab
X-SHOW-END-TIME:1
END:VEVENT
BEGIN:VEVENT
DTSTART;TZID=Europe/Berlin:20250225T180000
DTEND;TZID=Europe/Berlin:20250225T210000
UID:B44AE029-FB4F-417D-88DF-486573772653
SUMMARY:Treffen der Gemeindeleitung
CREATED:20250109T100134Z
DTSTAMP:20250109T100134Z
URL:https://www.efg-regensburg.de/termine/kalender/treffen-der-gemeindeleitung-2
LAST-MODIFIED:20250206T160701Z
SEQUENCE:2441127
LOCATION:Adalbert-Stifter-Str. 33b\, 93051 Regensburg
GEO:48.99649085;12.08187640
X-ROOMS:Gruppenraum im Keller
X-LOCATION-DISPLAYNAME:EFG Regensburg [Gruppenraum im Keller]
X-ACCESS:1
X-HITS:5
X-COLOR:0de0ab
X-SHOW-END-TIME:1
END:VEVENT
BEGIN:VEVENT
DTSTART;TZID=Europe/Berlin:20250315T193000
DTEND;TZID=Europe/Berlin:20250315T210000
UID:810D86B9-7B60-4CD7-883E-2B1F9DD95E7D
SUMMARY:Lobpreis- und Gebetsabend
CREATED:20250109T134134Z
DTSTAMP:20250109T134134Z
URL:https://www.efg-regensburg.de/termine/kalender/lobpreis-und-gebetsabend-6
LAST-MODIFIED:20250310T190053Z
SEQUENCE:5203159
LOCATION:Adalbert-Stifter-Str. 33b\, 93051 Regensburg
GEO:48.99649085;12.08187640
X-ROOMS:Gruppenraum im Keller
X-LOCATION-DISPLAYNAME:EFG Regensburg [Gruppenraum im Keller]
X-ACCESS:1
X-HITS:1
X-COLOR:0de0ab
X-SHOW-END-TIME:1
END:VEVENT
BEGIN:VEVENT
DTSTART;TZID=Europe/Berlin:20250318T180000
DTEND;TZID=Europe/Berlin:20250318T210000
UID:E913D2AC-EBB2-422C-A452-A4DBB3CE515B
SUMMARY:Treffen der Gemeindeleitung
CREATED:20250109T102929Z
DTSTAMP:20250109T102929Z
URL:https://www.efg-regensburg.de/termine/kalender/treffen-der-gemeindeleitung-4
LAST-MODIFIED:20250321T163813Z
SEQUENCE:6156524
LOCATION:Adalbert-Stifter-Str. 33b\, 93051 Regensburg
GEO:48.99649085;12.08187640
X-ROOMS:keine Räume
X-LOCATION-DISPLAYNAME:EFG Regensburg [keine Räume]
X-ACCESS:1
X-HITS:4
X-COLOR:0de0ab
X-SHOW-END-TIME:1
END:VEVENT
BEGIN:VEVENT
DTSTART;TZID=Europe/Berlin:20250322T193000
DTEND;TZID=Europe/Berlin:20250322T210000
UID:810D86B9-7B60-4CD7-883E-2B1F9DD95E7D
SUMMARY:Lobpreis- und Gebetsabend
CREATED:20250109T134134Z
DTSTAMP:20250109T134134Z
URL:https://www.efg-regensburg.de/termine/kalender/lobpreis-und-gebetsabend-7
LAST-MODIFIED:20250322T173104Z
SEQUENCE:6234570
LOCATION:Adalbert-Stifter-Str. 33b\, 93051 Regensburg
GEO:48.99649085;12.08187640
X-ROOMS:Gruppenraum im Keller
X-LOCATION-DISPLAYNAME:EFG Regensburg [Gruppenraum im Keller]
X-ACCESS:1
X-HITS:0
X-COLOR:0de0ab
X-SHOW-END-TIME:1
END:VEVENT
BEGIN:VEVENT
DTSTART;TZID=Europe/Berlin:20250520T180000
DTEND;TZID=Europe/Berlin:20250520T200000
UID:0D09E7F8-AE90-442F-89EF-D0C7C40F8929
SUMMARY:Treffen der Gemeindeleitung
CREATED:20250109T103229Z
DTSTAMP:20250109T103229Z
URL:https://www.efg-regensburg.de/termine/kalender/treffen-der-gemeindeleitung-6
LAST-MODIFIED:20250326T145122Z
SEQUENCE:6581933
LOCATION:Adalbert-Stifter-Str. 33b\, 93051 Regensburg
GEO:48.99649085;12.08187640
X-ROOMS:Gruppenraum im Keller
X-LOCATION-DISPLAYNAME:EFG Regensburg [Gruppenraum im Keller]
X-ACCESS:1
X-HITS:0
X-COLOR:0de0ab
X-SHOW-END-TIME:1
END:VEVENT
BEGIN:VEVENT
DTSTART;TZID=Europe/Berlin:20250624T180000
DTEND;TZID=Europe/Berlin:20250624T200000
UID:0D09E7F8-AE90-442F-89EF-D0C7C40F8929
SUMMARY:Treffen der Gemeindeleitung
CREATED:20250109T103229Z
DTSTAMP:20250109T103229Z
URL:https://www.efg-regensburg.de/termine/kalender/treffen-der-gemeindeleitung-7
LAST-MODIFIED:20250326T145152Z
SEQUENCE:6581963
LOCATION:Adalbert-Stifter-Str. 33b\, 93051 Regensburg
GEO:48.99649085;12.08187640
X-ROOMS:Gruppenraum im Keller
X-LOCATION-DISPLAYNAME:EFG Regensburg [Gruppenraum im Keller]
X-ACCESS:1
X-HITS:0
X-COLOR:0de0ab
X-SHOW-END-TIME:1
END:VEVENT
BEGIN:VEVENT
DTSTART;TZID=Europe/Berlin:20250627T190000
DTEND;TZID=Europe/Berlin:20250627T203000
RRULE:FREQ=WEEKLY;INTERVAL=2;UNTIL=20250725T235900Z
UID:D934383B-34BF-4C87-BBC8-7E3B6FF87EBD
SUMMARY:Treffen der Teenies
CREATED:20250109T101605Z
DTSTAMP:20250109T101605Z
URL:https://www.efg-regensburg.de/termine/kalender/treffen-der-teenies-4
LAST-MODIFIED:20250627T071844Z
SEQUENCE:14590959
LOCATION:Adalbert-Stifter-Str. 33b\, 93051 Regensburg
GEO:48.99649085;12.08187640
X-ROOMS:Gruppenraum im Keller
X-LOCATION-DISPLAYNAME:EFG Regensburg [Gruppenraum im Keller]
X-ACCESS:1
X-HITS:21
X-COLOR:0de0ab
X-SHOW-END-TIME:1
END:VEVENT
BEGIN:VEVENT
DTSTART;TZID=Europe/Berlin:20250715T180000
DTEND;TZID=Europe/Berlin:20250715T200000
UID:0D09E7F8-AE90-442F-89EF-D0C7C40F8929
SUMMARY:Treffen der Gemeindeleitung
CREATED:20250109T103229Z
DTSTAMP:20250109T103229Z
URL:https://www.efg-regensburg.de/termine/kalender/treffen-der-gemeindeleitung-8
LAST-MODIFIED:20250326T145218Z
SEQUENCE:6581989
LOCATION:Adalbert-Stifter-Str. 33b\, 93051 Regensburg
GEO:48.99649085;12.08187640
X-ROOMS:Gruppenraum im Keller
X-LOCATION-DISPLAYNAME:EFG Regensburg [Gruppenraum im Keller]
X-ACCESS:1
X-HITS:0
X-COLOR:0de0ab
X-SHOW-END-TIME:1
END:VEVENT
BEGIN:VEVENT
DTSTART;TZID=Europe/Berlin:20251031T140000
DTEND;TZID=Europe/Berlin:20251031T190000
UID:FF77523B-38A4-4E8E-9AE7-43375E5BF44B
SUMMARY:Starpoint
CREATED:20251020T220000Z
DTSTAMP:20251020T220000Z
URL:https://www.efg-regensburg.de/termine/kalender/starpoint
LAST-MODIFIED:20251021T194949Z
SEQUENCE:78589
LOCATION:Adalbert-Stifter-Str. 33b\, 93051 Regensburg
GEO:48.99649085;12.08187640
X-LOCATION-DISPLAYNAME:EFG Regensburg
X-ACCESS:1
X-HITS:0
X-COLOR:0de0ab
X-SHOW-END-TIME:1
X-PUBLISH-UP:2007-05-17 22:00:00
X-PUBLISH-DOWN:2027-04-16 22:00:00
END:VEVENT
END:VCALENDAR